BEGIN:VCALENDAR
VERSION:2.0
PRODID:-//Sport to Change Diabetes - ECPv6.15.15//NONSGML v1.0//EN
CALSCALE:GREGORIAN
METHOD:PUBLISH
X-ORIGINAL-URL:https://sporttochangediabetes.be
X-WR-CALDESC:Évènements pour Sport to Change Diabetes
REFRESH-INTERVAL;VALUE=DURATION:PT1H
X-Robots-Tag:noindex
X-PUBLISHED-TTL:PT1H
BEGIN:VTIMEZONE
TZID:Europe/Paris
BEGIN:DAYLIGHT
TZOFFSETFROM:+0100
TZOFFSETTO:+0200
TZNAME:CEST
DTSTART:20250330T010000
END:DAYLIGHT
BEGIN:STANDARD
TZOFFSETFROM:+0200
TZOFFSETTO:+0100
TZNAME:CET
DTSTART:20251026T010000
END:STANDARD
BEGIN:DAYLIGHT
TZOFFSETFROM:+0100
TZOFFSETTO:+0200
TZNAME:CEST
DTSTART:20260329T010000
END:DAYLIGHT
BEGIN:STANDARD
TZOFFSETFROM:+0200
TZOFFSETTO:+0100
TZNAME:CET
DTSTART:20261025T010000
END:STANDARD
BEGIN:DAYLIGHT
TZOFFSETFROM:+0100
TZOFFSETTO:+0200
TZNAME:CEST
DTSTART:20270328T010000
END:DAYLIGHT
BEGIN:STANDARD
TZOFFSETFROM:+0200
TZOFFSETTO:+0100
TZNAME:CET
DTSTART:20271031T010000
END:STANDARD
END:VTIMEZONE
BEGIN:VEVENT
DTSTART;TZID=Europe/Paris:20260502T170000
DTEND;TZID=Europe/Paris:20260509T100000
DTSTAMP:20260424T152551
CREATED:20251207T141654Z
LAST-MODIFIED:20251207T141654Z
UID:1359-1777741200-1778320800@sporttochangediabetes.be
SUMMARY:Stage de printemps
DESCRIPTION:Le stage se déroulera au Mur de Bretagne dans le village Miléade
URL:https://sporttochangediabetes.be/event/stage-de-printemps/
LOCATION:Guerlédan France\, France
CATEGORIES:Sortie Cyclo,Sortie Rando,Sortie Running
END:VEVENT
BEGIN:VEVENT
DTSTART;TZID=Europe/Paris:20260509T090000
DTEND;TZID=Europe/Paris:20260509T170000
DTSTAMP:20260424T152551
CREATED:20251207T141143Z
LAST-MODIFIED:20260223T104533Z
UID:1356-1778317200-1778346000@sporttochangediabetes.be
SUMMARY:Tour de Namur
DESCRIPTION:Tour de Namur Cyclo propose 3 parcours (143\, 101\, 74 km) pour vélo de route
URL:https://sporttochangediabetes.be/event/tour-de-namur-2/
LOCATION:Floreffe
CATEGORIES:Sortie Cyclo
END:VEVENT
BEGIN:VEVENT
DTSTART;TZID=Europe/Paris:20260523T090000
DTEND;TZID=Europe/Paris:20260523T170000
DTSTAMP:20260424T152551
CREATED:20251207T140209Z
LAST-MODIFIED:20251207T140209Z
UID:1351-1779526800-1779555600@sporttochangediabetes.be
SUMMARY:La chouffe
DESCRIPTION:La Chouffe Classic propose 3 parcours (153\, 115\, 94 km) pour vélo de route
URL:https://sporttochangediabetes.be/event/la-chouffe/
LOCATION:Houffalize\, Houffalize\, Belgium
CATEGORIES:Sortie Cyclo
END:VEVENT
BEGIN:VEVENT
DTSTART;TZID=Europe/Paris:20260530T090000
DTEND;TZID=Europe/Paris:20260530T170000
DTSTAMP:20260424T152551
CREATED:20251207T135836Z
LAST-MODIFIED:20260223T104632Z
UID:1349-1780131600-1780160400@sporttochangediabetes.be
SUMMARY:Tour des collines
DESCRIPTION:Une aventure cycliste époustouflante au cœur du pays des collines ! Les paysages à couper le souffle te feront oublier la dureté des montées\, et tu pourras choisir parmi trois distances : 85 km\, 125 km ou 160 km.
URL:https://sporttochangediabetes.be/event/tour-des-collines-2/
LOCATION:Tournai\, Tournai\, Belgium
CATEGORIES:Sortie Cyclo
END:VEVENT
BEGIN:VEVENT
DTSTART;TZID=Europe/Paris:20260531T080000
DTEND;TZID=Europe/Paris:20260531T170000
DTSTAMP:20260424T152551
CREATED:20251207T131937Z
LAST-MODIFIED:20251207T131937Z
UID:1336-1780214400-1780246800@sporttochangediabetes.be
SUMMARY:20 km de Bruxelles
DESCRIPTION:L’événement sportif avec les plus grand nombre de participants en Belgique (45000 pour l’édition de 2025).
URL:https://sporttochangediabetes.be/event/20-km-de-bruxelles-2/
LOCATION:Bruxelles\, Bruxelles\, 1000\, Belgium
CATEGORIES:Sortie Rando,Sortie Running
END:VEVENT
END:VCALENDAR