BEGIN:VCALENDAR
VERSION:2.0
PRODID:-//Sport to Change Diabetes - ECPv6.15.15//NONSGML v1.0//EN
CALSCALE:GREGORIAN
METHOD:PUBLISH
X-ORIGINAL-URL:https://sporttochangediabetes.be
X-WR-CALDESC:Évènements pour Sport to Change Diabetes
REFRESH-INTERVAL;VALUE=DURATION:PT1H
X-Robots-Tag:noindex
X-PUBLISHED-TTL:PT1H
BEGIN:VTIMEZONE
TZID:Europe/Paris
BEGIN:DAYLIGHT
TZOFFSETFROM:+0100
TZOFFSETTO:+0200
TZNAME:CEST
DTSTART:20240331T010000
END:DAYLIGHT
BEGIN:STANDARD
TZOFFSETFROM:+0200
TZOFFSETTO:+0100
TZNAME:CET
DTSTART:20241027T010000
END:STANDARD
BEGIN:DAYLIGHT
TZOFFSETFROM:+0100
TZOFFSETTO:+0200
TZNAME:CEST
DTSTART:20250330T010000
END:DAYLIGHT
BEGIN:STANDARD
TZOFFSETFROM:+0200
TZOFFSETTO:+0100
TZNAME:CET
DTSTART:20251026T010000
END:STANDARD
BEGIN:DAYLIGHT
TZOFFSETFROM:+0100
TZOFFSETTO:+0200
TZNAME:CEST
DTSTART:20260329T010000
END:DAYLIGHT
BEGIN:STANDARD
TZOFFSETFROM:+0200
TZOFFSETTO:+0100
TZNAME:CET
DTSTART:20261025T010000
END:STANDARD
END:VTIMEZONE
BEGIN:VEVENT
DTSTART;TZID=Europe/Paris:20250406T090000
DTEND;TZID=Europe/Paris:20250406T130000
DTSTAMP:20260419T143946
CREATED:20241230T144532Z
LAST-MODIFIED:20241230T144532Z
UID:1179-1743930000-1743944400@sporttochangediabetes.be
SUMMARY:Semi et Marathon de Namur
DESCRIPTION:Départ de Profondville pour le semi\, arrivées à Namur. Stand de Sport to change Diabetes \nParcours de 10\, 21 et 42 km \nDépart 9h \nInformation: https://www.baloisenamurmarathon.com/participants/semi-marathon \nInscription: OLivier Liégeois: oli.liegeois@gmail.com \n 
URL:https://sporttochangediabetes.be/event/semi-et-marathon-de-namur/
LOCATION:Profondville\, Profondville\, Belgium
CATEGORIES:Sortie Running
END:VEVENT
BEGIN:VEVENT
DTSTART;TZID=Europe/Paris:20250412T090000
DTEND;TZID=Europe/Paris:20250412T140000
DTSTAMP:20260419T143946
CREATED:20241230T142325Z
LAST-MODIFIED:20241230T142325Z
UID:1167-1744448400-1744466400@sporttochangediabetes.be
SUMMARY:Randonnée cycliste au départ de Péruwelz
DESCRIPTION:Notre ami Jean-Willy nous a préparé une randonnée au départ de Péruwelz \nUn parcours cyclosportif et un parcours cyclosportif seront proposés\nUn lien GPX sera fourni aux participants. \nAutour des 40 et 80 km. \nInscription sport to change Diabetes: sporttochangediabetes@gmail.com \n 
URL:https://sporttochangediabetes.be/event/randonnee-cycliste-au-depart-de-peruwelz/
LOCATION:Péruwelz\, Péruwelz\, Belgium
CATEGORIES:Sortie Cyclo
END:VEVENT
BEGIN:VEVENT
DTSTART;TZID=Europe/Paris:20250418T193000
DTEND;TZID=Europe/Paris:20250418T220000
DTSTAMP:20260419T143946
CREATED:20250103T154808Z
LAST-MODIFIED:20250103T154808Z
UID:1217-1745004600-1745013600@sporttochangediabetes.be
SUMMARY:La ronde du pays vert
DESCRIPTION:Challenge de l’Acrho \nParcours sur routes asphaltées et chemins de terre (carrières de Maffle)\, légèrement vallonné. \nDépart de Ath à 19h30 \nDistance 10.5km \nInformations: https://www.acrho.org/ \n 
URL:https://sporttochangediabetes.be/event/la-ronde-du-pays-vert/
LOCATION:Ath\, Belgium
CATEGORIES:Sortie Running
END:VEVENT
BEGIN:VEVENT
DTSTART;TZID=Europe/Paris:20250419T080000
DTEND;TZID=Europe/Paris:20250419T170000
DTSTAMP:20260419T143946
CREATED:20241230T143223Z
LAST-MODIFIED:20241231T110335Z
UID:1171-1745049600-1745082000@sporttochangediabetes.be
SUMMARY:La Flèche Brabançonne cyclo
DESCRIPTION:Sortie Golazo au départ de Leuven \ninformation: https://brabantsepijlcyclo.be/fr/ \nInscription via Sport to change Diabetes: sporttochangediabetes@gmail.com \n  \n 
URL:https://sporttochangediabetes.be/event/la-fleche-brabanconne-cyclo/
LOCATION:Heverlee\, Heverlee\, Belgium
CATEGORIES:Sortie Cyclo
END:VEVENT
BEGIN:VEVENT
DTSTART;TZID=Europe/Paris:20250427T093000
DTEND;TZID=Europe/Paris:20250427T150000
DTSTAMP:20260419T143946
CREATED:20241230T145324Z
LAST-MODIFIED:20241230T145324Z
UID:1184-1745746200-1745766000@sporttochangediabetes.be
SUMMARY:Trail de la crapule
DESCRIPTION:Course 9 Km (210D+)\, 15 Km  (395D+)\, 22 Km (495D+) & 32 KM (710D+) dans une bonne ambiance ou la musique vous encourage et vous accompagne.\nDépart de 6h15 à 11h \nInformation: https://beta.betrail.run/race/trail.de.la.crapule/2025/overview \nInscription: Olivier Liégeois: oli.liegeois@gmail.com
URL:https://sporttochangediabetes.be/event/trail-de-la-crapule/
LOCATION:Huccorgne\, Huccorgne\, Belgium
CATEGORIES:Sortie Running
END:VEVENT
END:VCALENDAR