BEGIN:VCALENDAR
VERSION:2.0
PRODID:-//Sport to Change Diabetes - ECPv6.15.15//NONSGML v1.0//EN
CALSCALE:GREGORIAN
METHOD:PUBLISH
X-ORIGINAL-URL:https://sporttochangediabetes.be
X-WR-CALDESC:Évènements pour Sport to Change Diabetes
REFRESH-INTERVAL;VALUE=DURATION:PT1H
X-Robots-Tag:noindex
X-PUBLISHED-TTL:PT1H
BEGIN:VTIMEZONE
TZID:Europe/Paris
BEGIN:DAYLIGHT
TZOFFSETFROM:+0100
TZOFFSETTO:+0200
TZNAME:CEST
DTSTART:20250330T010000
END:DAYLIGHT
BEGIN:STANDARD
TZOFFSETFROM:+0200
TZOFFSETTO:+0100
TZNAME:CET
DTSTART:20251026T010000
END:STANDARD
BEGIN:DAYLIGHT
TZOFFSETFROM:+0100
TZOFFSETTO:+0200
TZNAME:CEST
DTSTART:20260329T010000
END:DAYLIGHT
BEGIN:STANDARD
TZOFFSETFROM:+0200
TZOFFSETTO:+0100
TZNAME:CET
DTSTART:20261025T010000
END:STANDARD
BEGIN:DAYLIGHT
TZOFFSETFROM:+0100
TZOFFSETTO:+0200
TZNAME:CEST
DTSTART:20270328T010000
END:DAYLIGHT
BEGIN:STANDARD
TZOFFSETFROM:+0200
TZOFFSETTO:+0100
TZNAME:CET
DTSTART:20271031T010000
END:STANDARD
END:VTIMEZONE
BEGIN:VEVENT
DTSTART;TZID=Europe/Paris:20260823T090000
DTEND;TZID=Europe/Paris:20260823T170000
DTSTAMP:20260424T151526
CREATED:20251207T140847Z
LAST-MODIFIED:20251207T140847Z
UID:1353-1787475600-1787504400@sporttochangediabetes.be
SUMMARY:Ride Leuven
DESCRIPTION:
URL:https://sporttochangediabetes.be/event/ride-leuven/
LOCATION:Leuven
CATEGORIES:Sortie Cyclo
END:VEVENT
BEGIN:VEVENT
DTSTART;TZID=Europe/Paris:20260926T090000
DTEND;TZID=Europe/Paris:20260926T170000
DTSTAMP:20260424T151526
CREATED:20251217T112152Z
LAST-MODIFIED:20251217T112152Z
UID:1389-1790413200-1790442000@sporttochangediabetes.be
SUMMARY:Journée de Clôture
DESCRIPTION:Journée de clôture ouvert aux trois disciplines organisée par Véronique Raquet;\nles randonnées se termineront par un repas convivial.
URL:https://sporttochangediabetes.be/event/journee-de-cloture/
LOCATION:Jalhay
CATEGORIES:Sortie Cyclo,Sortie Rando,Sortie Running
END:VEVENT
BEGIN:VEVENT
DTSTART;TZID=Europe/Paris:20261011T090000
DTEND;TZID=Europe/Paris:20261011T170000
DTSTAMP:20260424T151526
CREATED:20251207T143541Z
LAST-MODIFIED:20251207T143541Z
UID:1370-1791709200-1791738000@sporttochangediabetes.be
SUMMARY:20 km de Paris
DESCRIPTION:Participer à l’Harmonie Mutuelle 20km de Paris\, c’est vivre une expérience sportive unique\, en foulant les lieux emblématiques de l’Ouest parisien. Le départ sera donné sur le majestueux Pont d’Iéna\, et la Tour Eiffel accueillera les finishers dans un final grandiose. Sur votre parcours : le Trocadéro\, l’Arc de Triomphe\, le Bois de Boulogne\, Roland-Garros\, la Maison de la Radio\, le Pont Royal et bien d’autres sites mythiques. Tout au long du tracé\, des orchestres et groupes de musique rythmeront vos foulées pour faire de cette journée un moment de sport\, de fête et de partage. Rejoignez l’aventure dès maintenant et vibrez au cœur de Paris !
URL:https://sporttochangediabetes.be/event/20-km-de-paris/
LOCATION:Paris\, France
CATEGORIES:Sortie Rando
END:VEVENT
BEGIN:VEVENT
DTSTART;TZID=Europe/Paris:20261017T120000
DTEND;TZID=Europe/Paris:20261017T170000
DTSTAMP:20260424T151526
CREATED:20251218T091219Z
LAST-MODIFIED:20251218T091219Z
UID:1401-1792238400-1792256400@sporttochangediabetes.be
SUMMARY:Ekiden Marathon
DESCRIPTION:Distance du marathon par équipe de 6 coureurs en relais\n5\, 7.2 ou 10 (42.2km total)
URL:https://sporttochangediabetes.be/event/ekiden-marathon-2/
LOCATION:Bruxelles\, Bruxelles\, 1000\, Belgium
CATEGORIES:Sortie Rando
END:VEVENT
BEGIN:VEVENT
DTSTART;TZID=Europe/Paris:20261114T080000
DTEND;TZID=Europe/Paris:20261114T170000
DTSTAMP:20260424T151526
CREATED:20251218T091745Z
LAST-MODIFIED:20251218T091745Z
UID:1407-1794643200-1794675600@sporttochangediabetes.be
SUMMARY:Diabulle
DESCRIPTION:Activités lors de la journée mondiale du diabète
URL:https://sporttochangediabetes.be/event/diabulle/
LOCATION:Namur\, Namur\, Belgium
CATEGORIES:Sortie Cyclo,Sortie Rando,Sortie Running
END:VEVENT
BEGIN:VEVENT
DTSTART;TZID=Europe/Paris:20261206T100000
DTEND;TZID=Europe/Paris:20261206T140000
DTSTAMP:20260424T151526
CREATED:20251218T091414Z
LAST-MODIFIED:20251218T091414Z
UID:1403-1796551200-1796565600@sporttochangediabetes.be
SUMMARY:Atomrun
DESCRIPTION:Course par équipe de 4 (1\, 2 \, 3 ou 4 boucles de 4km)\n4\, 8 \, 12 ou 16km
URL:https://sporttochangediabetes.be/event/atomrun-2/
LOCATION:Bruxelles\, Bruxelles\, 1000\, Belgium
CATEGORIES:Sortie Rando
END:VEVENT
BEGIN:VEVENT
DTSTART;TZID=Europe/Paris:20261226T193000
DTEND;TZID=Europe/Paris:20261226T230000
DTSTAMP:20260424T151526
CREATED:20251218T091535Z
LAST-MODIFIED:20251218T091535Z
UID:1405-1798313400-1798326000@sporttochangediabetes.be
SUMMARY:Corrida de Bruxelles
DESCRIPTION:Course sympa au cœur de Bruxelles\, le lendemain de Noël\n6KM
URL:https://sporttochangediabetes.be/event/corrida-de-bruxelles-3/
LOCATION:Bruxelles\, Bruxelles\, 1000\, Belgium
CATEGORIES:Sortie Rando
END:VEVENT
END:VCALENDAR