BEGIN:VCALENDAR
VERSION:2.0
PRODID:-//Sport to Change Diabetes - ECPv6.15.15//NONSGML v1.0//EN
CALSCALE:GREGORIAN
METHOD:PUBLISH
X-ORIGINAL-URL:https://sporttochangediabetes.be
X-WR-CALDESC:Évènements pour Sport to Change Diabetes
REFRESH-INTERVAL;VALUE=DURATION:PT1H
X-Robots-Tag:noindex
X-PUBLISHED-TTL:PT1H
BEGIN:VTIMEZONE
TZID:Europe/Paris
BEGIN:DAYLIGHT
TZOFFSETFROM:+0100
TZOFFSETTO:+0200
TZNAME:CEST
DTSTART:20240331T010000
END:DAYLIGHT
BEGIN:STANDARD
TZOFFSETFROM:+0200
TZOFFSETTO:+0100
TZNAME:CET
DTSTART:20241027T010000
END:STANDARD
BEGIN:DAYLIGHT
TZOFFSETFROM:+0100
TZOFFSETTO:+0200
TZNAME:CEST
DTSTART:20250330T010000
END:DAYLIGHT
BEGIN:STANDARD
TZOFFSETFROM:+0200
TZOFFSETTO:+0100
TZNAME:CET
DTSTART:20251026T010000
END:STANDARD
BEGIN:DAYLIGHT
TZOFFSETFROM:+0100
TZOFFSETTO:+0200
TZNAME:CEST
DTSTART:20260329T010000
END:DAYLIGHT
BEGIN:STANDARD
TZOFFSETFROM:+0200
TZOFFSETTO:+0100
TZNAME:CET
DTSTART:20261025T010000
END:STANDARD
BEGIN:DAYLIGHT
TZOFFSETFROM:+0100
TZOFFSETTO:+0200
TZNAME:CEST
DTSTART:20270328T010000
END:DAYLIGHT
BEGIN:STANDARD
TZOFFSETFROM:+0200
TZOFFSETTO:+0100
TZNAME:CET
DTSTART:20271031T010000
END:STANDARD
END:VTIMEZONE
BEGIN:VEVENT
DTSTART;TZID=Europe/Paris:20260418T090000
DTEND;TZID=Europe/Paris:20260418T170000
DTSTAMP:20260424T152510
CREATED:20251207T135406Z
LAST-MODIFIED:20251207T135406Z
UID:1347-1776502800-1776531600@sporttochangediabetes.be
SUMMARY:Flèche Brabançonne
DESCRIPTION:La flèche brabançonne Cyclo propose 3 parcours (152\, 115\, 75 km) pour vélo de route
URL:https://sporttochangediabetes.be/event/fleche-brabanconne/
LOCATION:Heverlee\, Heverlee\, Belgium
CATEGORIES:Sortie Cyclo
END:VEVENT
BEGIN:VEVENT
DTSTART;TZID=Europe/Paris:20260412T080000
DTEND;TZID=Europe/Paris:20260412T130000
DTSTAMP:20260424T152510
CREATED:20251207T132857Z
LAST-MODIFIED:20251218T090918Z
UID:1338-1775980800-1775998800@sporttochangediabetes.be
SUMMARY:Baloise Marathon de Namur
DESCRIPTION:Sport to change Diabetes en partenariat avec Dia bulles vous propose de participer à cet événement  \n3 distances sont proposées: 10\, 21 & 42km. \nVous pouvez vous y inscrire via le lien suivant (ne trainez pas car les places partent vite). \nhttps://docs.google.com/forms/d/e/1FAIpQLSc2jixdsgIaIbPo9Pdxk2E4uC5Z8exZDGXQtvf_9v_Gu_hH-g/viewform
URL:https://sporttochangediabetes.be/event/baloise-marathon-de-namur/
LOCATION:Namur\, Namur\, Belgium
CATEGORIES:Sortie Rando
END:VEVENT
BEGIN:VEVENT
DTSTART;TZID=Europe/Paris:20260329T090000
DTEND;TZID=Europe/Paris:20260329T170000
DTSTAMP:20260424T152510
CREATED:20251207T142357Z
LAST-MODIFIED:20251207T142357Z
UID:1364-1774774800-1774803600@sporttochangediabetes.be
SUMMARY:Journée d'ouverture
DESCRIPTION:Sport to change Diabetes organise sa journée d’ouverture au Heysel pour les cyclistes\, runneurs et marcheurs
URL:https://sporttochangediabetes.be/event/journee-douverture/
LOCATION:Bruxelles\, Bruxelles\, 1000\, Belgium
CATEGORIES:Sortie Cyclo,Sortie Rando,Sortie Running
END:VEVENT
BEGIN:VEVENT
DTSTART;TZID=Europe/Paris:20260321T090000
DTEND;TZID=Europe/Paris:20260321T170000
DTSTAMP:20260424T152510
CREATED:20251207T134822Z
LAST-MODIFIED:20251207T134822Z
UID:1344-1774083600-1774112400@sporttochangediabetes.be
SUMMARY:Dwars door Vlanderen
DESCRIPTION:Depuis Waregem\, vous traversez le cœur des Ardennes flamandes\, sur 75\, 105 ou 145 kilomètres d’expérience cycliste pure.
URL:https://sporttochangediabetes.be/event/dwars-door-vlanderen-2/
LOCATION:Waregem\, Waregem\, Belgium
CATEGORIES:Sortie Cyclo
END:VEVENT
BEGIN:VEVENT
DTSTART;TZID=Europe/Paris:20260307T090000
DTEND;TZID=Europe/Paris:20260307T150000
DTSTAMP:20260424T152510
CREATED:20260110T151413Z
LAST-MODIFIED:20260110T151413Z
UID:1415-1772874000-1772895600@sporttochangediabetes.be
SUMMARY:Ename
DESCRIPTION:Le samedi 7 mars 2026\, l’Ename Classic ouvrira une nouvelle saison du Proximus Cycling Challenge. Une merveilleuse ouverture de saison qui donne le ton à une série de randonnées cyclistes stimulantes à travers les plus belles régions de notre pays. L’Ename Classic est un premier bon test pour ceux qui se sont entraînés dur ces derniers mois\n65km\, 90km\, 120km\, 150km
URL:https://sporttochangediabetes.be/event/ename/
LOCATION:Oudenaerde
CATEGORIES:Sortie Cyclo
END:VEVENT
BEGIN:VEVENT
DTSTART;TZID=Europe/Paris:20260228T090000
DTEND;TZID=Europe/Paris:20260228T140000
DTSTAMP:20260424T152510
CREATED:20260110T151938Z
LAST-MODIFIED:20260110T151938Z
UID:1423-1772269200-1772287200@sporttochangediabetes.be
SUMMARY:marche
DESCRIPTION:Deuxième marche de l’année organisée par Patrick
URL:https://sporttochangediabetes.be/event/marche/
CATEGORIES:Sortie Rando
END:VEVENT
BEGIN:VEVENT
DTSTART;TZID=Europe/Paris:20260124T112000
DTEND;TZID=Europe/Paris:20260124T133000
DTSTAMP:20260424T152510
CREATED:20251217T111121Z
LAST-MODIFIED:20251217T113814Z
UID:1377-1769253600-1769261400@sporttochangediabetes.be
SUMMARY:Initiation à la marche nordique
DESCRIPTION:Découvrez les bienfaits et les techniques de la marche nordique ave Youri Depoorter.\nDeux groupes de maximum 10 personnes de 11h20à 12h20 et de 12h30 à 13h30\nLieu ; Royal Cercle Athlétique de Schaerbeek
URL:https://sporttochangediabetes.be/event/initiation-a-la-marche-nordique/
LOCATION:Schaerbeek\, place Terdelt 1\, Schaerbeek
CATEGORIES:Sortie Rando
END:VEVENT
BEGIN:VEVENT
DTSTART;TZID=Europe/Paris:20260117T110000
DTEND;TZID=Europe/Paris:20260117T170000
DTSTAMP:20260424T152510
CREATED:20251218T090555Z
LAST-MODIFIED:20251218T090555Z
UID:1396-1768647600-1768669200@sporttochangediabetes.be
SUMMARY:Relais Givrés
DESCRIPTION:Course par équipe de 5 coureurs (dont 1 femme et 1 vétéran)\n8+4Km (Givrés)\n4+4KM (Frappés)
URL:https://sporttochangediabetes.be/event/relais-givres-2/
LOCATION:Neder-Over-Hembeek\, 1120\, Belgium
CATEGORIES:Sortie Running
END:VEVENT
BEGIN:VEVENT
DTSTART;TZID=Europe/Paris:20260117T090000
DTEND;TZID=Europe/Paris:20260117T170000
DTSTAMP:20260424T152510
CREATED:20251207T142654Z
LAST-MODIFIED:20251207T142654Z
UID:1366-1768640400-1768669200@sporttochangediabetes.be
SUMMARY:Kick off Climbing for life
DESCRIPTION:Séance d’information sur le Climbing for life\nLes nouveaux ambassadeurs seront présentés
URL:https://sporttochangediabetes.be/event/kick-off-climbing-for-life/
LOCATION:Gand
CATEGORIES:Autres activités,Sortie Cyclo,Sortie Rando,Sortie Running
END:VEVENT
BEGIN:VEVENT
DTSTART;TZID=Europe/Paris:20260103T090000
DTEND;TZID=Europe/Paris:20260103T123000
DTSTAMP:20260424T152510
CREATED:20251217T110637Z
LAST-MODIFIED:20251217T110637Z
UID:1374-1767430800-1767443400@sporttochangediabetes.be
SUMMARY:Randonnée"le tunnel des amoureux"
DESCRIPTION:Commencez 2026 en beauté\, avec une belle randonnée en pleine nature.\nDistance parcourue 8-13 km avec des dénivelés doux\ninscription obligatoire : sporttochangediabetes@gmail.com
URL:https://sporttochangediabetes.be/event/randonneele-tunnel-des-amoureux/
LOCATION:Braine-le-Comte
CATEGORIES:Sortie Rando
END:VEVENT
BEGIN:VEVENT
DTSTART;TZID=Europe/Paris:20251226T193000
DTEND;TZID=Europe/Paris:20251226T213000
DTSTAMP:20260424T152510
CREATED:20250121T115601Z
LAST-MODIFIED:20250121T115601Z
UID:1294-1766777400-1766784600@sporttochangediabetes.be
SUMMARY:Corrida de Bruxelles
DESCRIPTION:Course sympa au cœur de Bruxelles\, le lendemain de Noël \nDistance: 8 & 4km \nDépart à 19h30
URL:https://sporttochangediabetes.be/event/corrida-de-bruxelles-2/
LOCATION:Bruxelles\, Bruxelles\, 1000\, Belgium
CATEGORIES:Sortie Running
END:VEVENT
BEGIN:VEVENT
DTSTART;TZID=Europe/Paris:20251207T100000
DTEND;TZID=Europe/Paris:20251207T140000
DTSTAMP:20260424T152510
CREATED:20250121T115303Z
LAST-MODIFIED:20250121T115303Z
UID:1292-1765101600-1765116000@sporttochangediabetes.be
SUMMARY:Atomrun
DESCRIPTION:Course par équipe de 4 (1\, 2 \, 3 ou 4 boucles de 4km) \nDistance: 4\, 8 \, 12 ou 16km \nLieu Heysel \nDépart 10h
URL:https://sporttochangediabetes.be/event/atomrun/
LOCATION:Bruxelles\, Bruxelles\, 1000\, Belgium
CATEGORIES:Sortie Running
END:VEVENT
BEGIN:VEVENT
DTSTART;TZID=Europe/Paris:20251018T140000
DTEND;TZID=Europe/Paris:20251018T170000
DTSTAMP:20260424T152510
CREATED:20250121T115039Z
LAST-MODIFIED:20250121T115642Z
UID:1290-1760796000-1760806800@sporttochangediabetes.be
SUMMARY:Ekiden Marathon
DESCRIPTION:Distance du marathon par équipe de 6 coureurs en relais \nDistance par équipe 42.2 km au total avec des distances de 5\, 7.2 ou 10 km \nLieu: Heysel \nDépart dans l’après-midi
URL:https://sporttochangediabetes.be/event/ekiden-marathon/
LOCATION:Bruxelles\, Bruxelles\, 1000\, Belgium
CATEGORIES:Sortie Running
END:VEVENT
BEGIN:VEVENT
DTSTART;TZID=Europe/Paris:20251012T090000
DTEND;TZID=Europe/Paris:20251012T120000
DTSTAMP:20260424T152510
CREATED:20250121T114640Z
LAST-MODIFIED:20250121T115705Z
UID:1287-1760259600-1760270400@sporttochangediabetes.be
SUMMARY:20km Paris
DESCRIPTION:Semi-marathon dans la plus belle ville du monde \nInformations: https://vredestein.20kmparis.com/ \nDistance 20 km \nDépart: Paris
URL:https://sporttochangediabetes.be/event/20km-paris/
LOCATION:Paris\, France
CATEGORIES:Sortie Running
END:VEVENT
BEGIN:VEVENT
DTSTART;TZID=Europe/Paris:20251004T100000
DTEND;TZID=Europe/Paris:20251004T170000
DTSTAMP:20260424T152510
CREATED:20250121T114404Z
LAST-MODIFIED:20250121T120040Z
UID:1284-1759572000-1759597200@sporttochangediabetes.be
SUMMARY:Trail de Villers-la-Ville
DESCRIPTION:Course accessible dans le décor de l’Abbaye \nDistance: 5\, 12\, 17\, 33\, 50 km
URL:https://sporttochangediabetes.be/event/trail-de-villers-la-ville/
LOCATION:Villers-la-Ville\, Belgium
CATEGORIES:Sortie Running
END:VEVENT
BEGIN:VEVENT
DTSTART;TZID=Europe/Paris:20250928T100000
DTEND;TZID=Europe/Paris:20250928T170000
DTSTAMP:20260424T152510
CREATED:20250121T114008Z
LAST-MODIFIED:20250121T115759Z
UID:1282-1759053600-1759078800@sporttochangediabetes.be
SUMMARY:La Gouyasse
DESCRIPTION:Challenge de l’Acrho \nInformations: https://www.acrho.org/ \nDistance : 10 km \nDépart: Ath
URL:https://sporttochangediabetes.be/event/la-gouyasse/
LOCATION:Ath\, Belgium
CATEGORIES:Sortie Running
END:VEVENT
BEGIN:VEVENT
DTSTART;TZID=Europe/Paris:20250927T090000
DTEND;TZID=Europe/Paris:20250927T170000
DTSTAMP:20260424T152510
CREATED:20250121T104546Z
LAST-MODIFIED:20250121T104546Z
UID:1264-1758963600-1758992400@sporttochangediabetes.be
SUMMARY:Journée de clôture à Lustin
DESCRIPTION:Journée de clotûre à Lustin pour cyclistes\, coureurs et marcheurs \nRandonnées de différents distance par discipline suivi par un repas \nDépart 9h \nSalle le Foyau \nOrganisateur: Michke et Françoise
URL:https://sporttochangediabetes.be/event/journee-de-cloture-a-lustin/
LOCATION:Lustin\, Belgium
CATEGORIES:Sortie Cyclo,Sortie Rando,Sortie Running
END:VEVENT
BEGIN:VEVENT
DTSTART;TZID=Europe/Paris:20250920T090000
DTEND;TZID=Europe/Paris:20250920T140000
DTSTAMP:20260424T152510
CREATED:20250121T104030Z
LAST-MODIFIED:20250121T104030Z
UID:1261-1758358800-1758376800@sporttochangediabetes.be
SUMMARY:Super 8 cyclo
DESCRIPTION:Randonnée organisée par Golazo \nToute information sur https://super8cyclo.be/fr/ \nDépart 9 h \nParcours de 70 km\, 100km et 125 km
URL:https://sporttochangediabetes.be/event/super-8-cyclo/
LOCATION:Boortmeerbeek\, Belgium
CATEGORIES:Sortie Cyclo
END:VEVENT
BEGIN:VEVENT
DTSTART;TZID=Europe/Paris:20250906T100000
DTEND;TZID=Europe/Paris:20250906T170000
DTSTAMP:20260424T152510
CREATED:20250121T113721Z
LAST-MODIFIED:20250121T115838Z
UID:1279-1757152800-1757178000@sporttochangediabetes.be
SUMMARY:Europa Trail Brussels
DESCRIPTION:Course nature dans la forêt de Soignes \nDistance: 10\, 26 & 52 km Trail ou 32 km Run & Bike \nDépart Uccle \nInformations: https://www.ahotu.com/fr/evenement/europa-trail-brussels
URL:https://sporttochangediabetes.be/event/europa-trail-brussels/
LOCATION:Uccle\, Belgium
CATEGORIES:Sortie Cyclo,Sortie Running
END:VEVENT
BEGIN:VEVENT
DTSTART;TZID=Europe/Paris:20250820T150000
DTEND;TZID=Europe/Paris:20250824T110000
DTSTAMP:20260424T152510
CREATED:20250121T103329Z
LAST-MODIFIED:20250121T103329Z
UID:1258-1755702000-1756033200@sporttochangediabetes.be
SUMMARY:Climbing for Life
DESCRIPTION:Climbing for Life sous le signe du diabète\nLa montée de cols mythiques. Cette année l’Alpes d’Huez. \nOrganisateur: Golazo \nToutes informations sur https://climbingforlife.be/fr/ \nSéjour de quatre jours en appartements à l’Alpes d’Huez \n  \n 
URL:https://sporttochangediabetes.be/event/climbing-for-life/
LOCATION:alpe d’Huez\, France
CATEGORIES:Sortie Cyclo,Sortie Rando,Sortie Running
END:VEVENT
BEGIN:VEVENT
DTSTART;TZID=Europe/Paris:20250802T090000
DTEND;TZID=Europe/Paris:20250802T140000
DTSTAMP:20260424T152510
CREATED:20250121T102325Z
LAST-MODIFIED:20250219T114522Z
UID:1255-1754125200-1754143200@sporttochangediabetes.be
SUMMARY:R.EV ride
DESCRIPTION:Sortie Golazo \nParcours de 55 km\, 85 km\, 130km\, 170 km \nDépart 9h \nToute information sur https://revride.be/fr/
URL:https://sporttochangediabetes.be/event/r-ev-ride/
LOCATION:Schepdaal\, Belgium
CATEGORIES:Sortie Cyclo
END:VEVENT
BEGIN:VEVENT
DTSTART;TZID=Europe/Paris:20250727T090000
DTEND;TZID=Europe/Paris:20250727T140000
DTSTAMP:20260424T152510
CREATED:20250121T101827Z
LAST-MODIFIED:20250121T101827Z
UID:1253-1753606800-1753624800@sporttochangediabetes.be
SUMMARY:Randonnée dans la région d'Enghien et de Ath
DESCRIPTION:Randonnée organisée par notre membre Olivier Durant \n 
URL:https://sporttochangediabetes.be/event/randonnee-dans-la-region-denghien-et-de-ath/
LOCATION:Ath\, Belgium
CATEGORIES:Sortie Cyclo
END:VEVENT
BEGIN:VEVENT
DTSTART;TZID=Europe/Paris:20250721T100000
DTEND;TZID=Europe/Paris:20250721T140000
DTSTAMP:20260424T152510
CREATED:20250121T113359Z
LAST-MODIFIED:20250121T115915Z
UID:1275-1753092000-1753106400@sporttochangediabetes.be
SUMMARY:10 Miles du Televie
DESCRIPTION:Courir pour la bonne cause du Televie \nDistance: 6\, 10.9\, 16.7 km
URL:https://sporttochangediabetes.be/event/10-miles-du-televie/
LOCATION:Waremme\, Belgium
CATEGORIES:Sortie Running
END:VEVENT
BEGIN:VEVENT
DTSTART;TZID=Europe/Paris:20250614T080000
DTEND;TZID=Europe/Paris:20250614T170000
DTSTAMP:20260424T152510
CREATED:20250121T112903Z
LAST-MODIFIED:20250121T120007Z
UID:1270-1749888000-1749920400@sporttochangediabetes.be
SUMMARY:Trail Godfroid de Bouillon
DESCRIPTION:Beau trail dans une belle région vallonnée de Bouillon dans une ambiance médiévale! \nDistance: 20\, 34\, 53\, 75\, 100\, 134 km \nDépart dans la matinée
URL:https://sporttochangediabetes.be/event/trail-a-bouillon/
LOCATION:Bouillon\, Belgium
CATEGORIES:Sortie Running
END:VEVENT
BEGIN:VEVENT
DTSTART;TZID=Europe/Paris:20250608T090000
DTEND;TZID=Europe/Paris:20250608T140000
DTSTAMP:20260424T152510
CREATED:20250121T101542Z
LAST-MODIFIED:20250121T101626Z
UID:1250-1749373200-1749391200@sporttochangediabetes.be
SUMMARY:Parcours  au départ de Huy
DESCRIPTION:Randonnée organisé par notre membre Benoît pour les cyclosportifs et par nos membres Patricia et Alexandre pour les cyclotouristes \nRandonnées de 80 et 40 km \n 
URL:https://sporttochangediabetes.be/event/parcours-au-depart-de-huy/
LOCATION:Huy\, Huy\, Belgium
CATEGORIES:Sortie Cyclo
END:VEVENT
BEGIN:VEVENT
DTSTART;TZID=Europe/Paris:20250607T150000
DTEND;TZID=Europe/Paris:20250607T170000
DTSTAMP:20260424T152510
CREATED:20250121T112604Z
LAST-MODIFIED:20250121T120129Z
UID:1267-1749308400-1749315600@sporttochangediabetes.be
SUMMARY:La Ronde des Moulins
DESCRIPTION:Challenge de l’Acrho \nParcours de 10 km \nToute information sur: https://www.acrho.org/ \nDépart 145h
URL:https://sporttochangediabetes.be/event/la-ronde-des-moulins/
LOCATION:Lessines\, Belgium
CATEGORIES:Sortie Running
END:VEVENT
BEGIN:VEVENT
DTSTART;TZID=Europe/Paris:20250531T090000
DTEND;TZID=Europe/Paris:20250531T140000
DTSTAMP:20260424T152510
CREATED:20250121T101205Z
LAST-MODIFIED:20250121T101205Z
UID:1248-1748682000-1748700000@sporttochangediabetes.be
SUMMARY:Randonnée au Bosland (Limbourg)
DESCRIPTION:Randonnée organisée par Didier dans la forêt du Bosland au Limbourg \nCette randonnée est organisée par notre membre Didier.
URL:https://sporttochangediabetes.be/event/randonnee-au-bosland-limbourg/
CATEGORIES:Sortie Cyclo
END:VEVENT
BEGIN:VEVENT
DTSTART;TZID=Europe/Paris:20250525T100000
DTEND;TZID=Europe/Paris:20250525T170000
DTSTAMP:20260424T152510
CREATED:20241231T105354Z
LAST-MODIFIED:20250103T153839Z
UID:1195-1748167200-1748192400@sporttochangediabetes.be
SUMMARY:20 KM de Bruxelles
DESCRIPTION:La course la plus populaire de Belgique \n20 KM en courant ou  en marchant \nDépart 10h \nInscription limitée \nInscription dans l’équipe Sport to change Diabetes et chez Olivier Liégeois: oli.liegeois@gmail.com \nLe maillot de l’association est obligatoire. \nStand prévu pour y déposer ces affaires et recevoir une collation après la course.
URL:https://sporttochangediabetes.be/event/20-km-de-bruxelles/
LOCATION:Bruxelles\, Bruxelles\, 1000\, Belgium
CATEGORIES:Sortie Rando,Sortie Running
END:VEVENT
BEGIN:VEVENT
DTSTART;TZID=Europe/Paris:20250524T090000
DTEND;TZID=Europe/Paris:20250524T090000
DTSTAMP:20260424T152510
CREATED:20241231T112533Z
LAST-MODIFIED:20250103T153923Z
UID:1203-1748077200-1748077200@sporttochangediabetes.be
SUMMARY:La Chouffe Classic
DESCRIPTION:Sortie Golazo \nParcours de 94-115-153 km \nDépart 9 h \nInscriptions chez Sport to change Diabetes: sporttochangediabetes@gmail.com
URL:https://sporttochangediabetes.be/event/la-chouffe-classique/
LOCATION:Houffalize\, Houffalize\, Belgium
CATEGORIES:Sortie Cyclo
END:VEVENT
BEGIN:VEVENT
DTSTART;TZID=Europe/Paris:20250518T090000
DTEND;TZID=Europe/Paris:20250518T140000
DTSTAMP:20260424T152510
CREATED:20241230T143929Z
LAST-MODIFIED:20250219T114419Z
UID:1175-1747558800-1747576800@sporttochangediabetes.be
SUMMARY:Tour de Namur
DESCRIPTION:Sortie Golazo \nParcours de 74-101-143 km \nInformation: Sport to change Diabetes: sporttochangediabetes@gmail.com \n 
URL:https://sporttochangediabetes.be/event/tour-de-namur/
LOCATION:Namur\, Namur\, Belgium
CATEGORIES:Sortie Cyclo
END:VEVENT
END:VCALENDAR