BEGIN:VCALENDAR
VERSION:2.0
PRODID:-//Sport to Change Diabetes - ECPv6.15.15//NONSGML v1.0//EN
CALSCALE:GREGORIAN
METHOD:PUBLISH
X-WR-CALNAME:Sport to Change Diabetes
X-ORIGINAL-URL:https://sporttochangediabetes.be
X-WR-CALDESC:Évènements pour Sport to Change Diabetes
REFRESH-INTERVAL;VALUE=DURATION:PT1H
X-Robots-Tag:noindex
X-PUBLISHED-TTL:PT1H
BEGIN:VTIMEZONE
TZID:Europe/Paris
BEGIN:DAYLIGHT
TZOFFSETFROM:+0100
TZOFFSETTO:+0200
TZNAME:CEST
DTSTART:20250330T010000
END:DAYLIGHT
BEGIN:STANDARD
TZOFFSETFROM:+0200
TZOFFSETTO:+0100
TZNAME:CET
DTSTART:20251026T010000
END:STANDARD
BEGIN:DAYLIGHT
TZOFFSETFROM:+0100
TZOFFSETTO:+0200
TZNAME:CEST
DTSTART:20260329T010000
END:DAYLIGHT
BEGIN:STANDARD
TZOFFSETFROM:+0200
TZOFFSETTO:+0100
TZNAME:CET
DTSTART:20261025T010000
END:STANDARD
BEGIN:DAYLIGHT
TZOFFSETFROM:+0100
TZOFFSETTO:+0200
TZNAME:CEST
DTSTART:20270328T010000
END:DAYLIGHT
BEGIN:STANDARD
TZOFFSETFROM:+0200
TZOFFSETTO:+0100
TZNAME:CET
DTSTART:20271031T010000
END:STANDARD
END:VTIMEZONE
BEGIN:VEVENT
DTSTART;TZID=Europe/Paris:20260601T080000
DTEND;TZID=Europe/Paris:20260607T170000
DTSTAMP:20260424T152647
CREATED:20251218T091941Z
LAST-MODIFIED:20251218T091941Z
UID:1410-1780300800-1780851600@sporttochangediabetes.be
SUMMARY:Challenge Virtuel Ass Diab US
DESCRIPTION:Challenge virtuel de 5km (gratuit) « 5K@ADA »\n5KM
URL:https://sporttochangediabetes.be/event/challenge-virtuel-ass-diab-us/
CATEGORIES:Sortie Rando,Sortie Running
END:VEVENT
BEGIN:VEVENT
DTSTART;TZID=Europe/Paris:20260606T090000
DTEND;TZID=Europe/Paris:20260606T130000
DTSTAMP:20260424T152647
CREATED:20251217T111455Z
LAST-MODIFIED:20251217T111629Z
UID:1383-1780736400-1780750800@sporttochangediabetes.be
SUMMARY:Sortie Cyclo à Namur
DESCRIPTION:Sortie organisée par Daniel Duvivier
URL:https://sporttochangediabetes.be/event/sortie-a-namur/
LOCATION:Namur\, Namur\, Belgium
CATEGORIES:Sortie Cyclo
END:VEVENT
BEGIN:VEVENT
DTSTART;TZID=Europe/Paris:20260627T090000
DTEND;TZID=Europe/Paris:20260627T170000
DTSTAMP:20260424T152647
CREATED:20260110T151711Z
LAST-MODIFIED:20260110T151711Z
UID:1418-1782550800-1782579600@sporttochangediabetes.be
SUMMARY:cyclo Lac de l'eau d'heure
DESCRIPTION:Cyclo organisé par Didier
URL:https://sporttochangediabetes.be/event/cyclo-lac-de-leau-dheure/
LOCATION:Lac de l’eau d’heure
CATEGORIES:Sortie Cyclo
END:VEVENT
END:VCALENDAR