BEGIN:VCALENDAR
VERSION:2.0
PRODID:-//Sport to Change Diabetes - ECPv6.15.15//NONSGML v1.0//EN
CALSCALE:GREGORIAN
METHOD:PUBLISH
X-WR-CALNAME:Sport to Change Diabetes
X-ORIGINAL-URL:https://sporttochangediabetes.be
X-WR-CALDESC:Évènements pour Sport to Change Diabetes
REFRESH-INTERVAL;VALUE=DURATION:PT1H
X-Robots-Tag:noindex
X-PUBLISHED-TTL:PT1H
BEGIN:VTIMEZONE
TZID:Europe/Paris
BEGIN:DAYLIGHT
TZOFFSETFROM:+0100
TZOFFSETTO:+0200
TZNAME:CEST
DTSTART:20240331T010000
END:DAYLIGHT
BEGIN:STANDARD
TZOFFSETFROM:+0200
TZOFFSETTO:+0100
TZNAME:CET
DTSTART:20241027T010000
END:STANDARD
BEGIN:DAYLIGHT
TZOFFSETFROM:+0100
TZOFFSETTO:+0200
TZNAME:CEST
DTSTART:20250330T010000
END:DAYLIGHT
BEGIN:STANDARD
TZOFFSETFROM:+0200
TZOFFSETTO:+0100
TZNAME:CET
DTSTART:20251026T010000
END:STANDARD
BEGIN:DAYLIGHT
TZOFFSETFROM:+0100
TZOFFSETTO:+0200
TZNAME:CEST
DTSTART:20260329T010000
END:DAYLIGHT
BEGIN:STANDARD
TZOFFSETFROM:+0200
TZOFFSETTO:+0100
TZNAME:CET
DTSTART:20261025T010000
END:STANDARD
END:VTIMEZONE
BEGIN:VEVENT
DTSTART;TZID=Europe/Paris:20250503T080000
DTEND;TZID=Europe/Paris:20250510T103000
DTSTAMP:20260421T133947
CREATED:20241231T113552Z
LAST-MODIFIED:20241231T113721Z
UID:1207-1746259200-1746873000@sporttochangediabetes.be
SUMMARY:Stage à Roquebrune-sur-Argens
DESCRIPTION:Stage d’une semaine pour les cyclos\, marcheurs et runners dans le sud de la France \nVos activités sportives \n\nRando : quelques exemples de randonnées : le rocher de Roquebrune/Argens\, le cap de Saint-Tropez\, les gorges du Verdon\, les Maures\, le Malpasset….\nCyclo : Quelques exemples de sorties : Le massif des Maures\, le golfe de Saint-Tropez\, Le Massif de l’Estérel\, les villages perchés du haut Var\, le massif du Tanneron\, les gorges du Verdon et de la Saigne\n\nLogement en pension complète dans le complexe de Miléade \nInformation et inscription: Sport to change Diabetes: sporttochangediabetes@gmail.com \n 
URL:https://sporttochangediabetes.be/event/stage-a-roquebrunes/
LOCATION:Roquebrune-sur-Argens\, Roquebrune-sur-Argens\, France
CATEGORIES:Sortie Cyclo,Sortie Rando,Sortie Running
END:VEVENT
END:VCALENDAR