BEGIN:VCALENDAR
VERSION:2.0
PRODID:-//Sport to Change Diabetes - ECPv6.15.15//NONSGML v1.0//EN
CALSCALE:GREGORIAN
METHOD:PUBLISH
X-ORIGINAL-URL:https://sporttochangediabetes.be
X-WR-CALDESC:Évènements pour Sport to Change Diabetes
REFRESH-INTERVAL;VALUE=DURATION:PT1H
X-Robots-Tag:noindex
X-PUBLISHED-TTL:PT1H
BEGIN:VTIMEZONE
TZID:Europe/Paris
BEGIN:DAYLIGHT
TZOFFSETFROM:+0100
TZOFFSETTO:+0200
TZNAME:CEST
DTSTART:20240331T010000
END:DAYLIGHT
BEGIN:STANDARD
TZOFFSETFROM:+0200
TZOFFSETTO:+0100
TZNAME:CET
DTSTART:20241027T010000
END:STANDARD
BEGIN:DAYLIGHT
TZOFFSETFROM:+0100
TZOFFSETTO:+0200
TZNAME:CEST
DTSTART:20250330T010000
END:DAYLIGHT
BEGIN:STANDARD
TZOFFSETFROM:+0200
TZOFFSETTO:+0100
TZNAME:CET
DTSTART:20251026T010000
END:STANDARD
BEGIN:DAYLIGHT
TZOFFSETFROM:+0100
TZOFFSETTO:+0200
TZNAME:CEST
DTSTART:20260329T010000
END:DAYLIGHT
BEGIN:STANDARD
TZOFFSETFROM:+0200
TZOFFSETTO:+0100
TZNAME:CET
DTSTART:20261025T010000
END:STANDARD
END:VTIMEZONE
BEGIN:VEVENT
DTSTART;TZID=Europe/Paris:20250427T093000
DTEND;TZID=Europe/Paris:20250427T150000
DTSTAMP:20260421T121328
CREATED:20241230T145324Z
LAST-MODIFIED:20241230T145324Z
UID:1184-1745746200-1745766000@sporttochangediabetes.be
SUMMARY:Trail de la crapule
DESCRIPTION:Course 9 Km (210D+)\, 15 Km  (395D+)\, 22 Km (495D+) & 32 KM (710D+) dans une bonne ambiance ou la musique vous encourage et vous accompagne.\nDépart de 6h15 à 11h \nInformation: https://beta.betrail.run/race/trail.de.la.crapule/2025/overview \nInscription: Olivier Liégeois: oli.liegeois@gmail.com
URL:https://sporttochangediabetes.be/event/trail-de-la-crapule/
LOCATION:Huccorgne\, Huccorgne\, Belgium
CATEGORIES:Sortie Running
END:VEVENT
END:VCALENDAR