BEGIN:VCALENDAR
VERSION:2.0
PRODID:-//Sport to Change Diabetes - ECPv6.15.15//NONSGML v1.0//EN
CALSCALE:GREGORIAN
METHOD:PUBLISH
X-WR-CALNAME:Sport to Change Diabetes
X-ORIGINAL-URL:https://sporttochangediabetes.be
X-WR-CALDESC:Évènements pour Sport to Change Diabetes
REFRESH-INTERVAL;VALUE=DURATION:PT1H
X-Robots-Tag:noindex
X-PUBLISHED-TTL:PT1H
BEGIN:VTIMEZONE
TZID:Europe/Paris
BEGIN:DAYLIGHT
TZOFFSETFROM:+0100
TZOFFSETTO:+0200
TZNAME:CEST
DTSTART:20240331T010000
END:DAYLIGHT
BEGIN:STANDARD
TZOFFSETFROM:+0200
TZOFFSETTO:+0100
TZNAME:CET
DTSTART:20241027T010000
END:STANDARD
BEGIN:DAYLIGHT
TZOFFSETFROM:+0100
TZOFFSETTO:+0200
TZNAME:CEST
DTSTART:20250330T010000
END:DAYLIGHT
BEGIN:STANDARD
TZOFFSETFROM:+0200
TZOFFSETTO:+0100
TZNAME:CET
DTSTART:20251026T010000
END:STANDARD
BEGIN:DAYLIGHT
TZOFFSETFROM:+0100
TZOFFSETTO:+0200
TZNAME:CEST
DTSTART:20260329T010000
END:DAYLIGHT
BEGIN:STANDARD
TZOFFSETFROM:+0200
TZOFFSETTO:+0100
TZNAME:CET
DTSTART:20261025T010000
END:STANDARD
END:VTIMEZONE
BEGIN:VEVENT
DTSTART;TZID=Europe/Paris:20250330T100000
DTEND;TZID=Europe/Paris:20250330T100000
DTSTAMP:20260419T142119
CREATED:20241228T175712Z
LAST-MODIFIED:20250121T141721Z
UID:1133-1743328800-1743328800@sporttochangediabetes.be
SUMMARY:Journée d'ouverture au Stade Royal du Primerose
DESCRIPTION:Journée d’ouverture  de la saison 2025 \nCyclotouristes et Cyclosportifs : Deux parcours au départ du plateau du Heysel d’environ 30 et 70 km vers le Pajottenland avec ses vastes paysages riches en forêts\, jardins et châteaux. \nJoggeurs : un parcours de 10 km sur le plateau du Heysel et du parc royal\, parc le plus grand et le plus ancien de Bruxelles \nMarcheurs : une marche à travers les différents parcs de la verdoyante commune de Jette avant de nous plonger dans le magnifique bois de Dieleghem. \n  \n 
URL:https://sporttochangediabetes.be/event/journee-douverture-au-heysel/
LOCATION:stade Royal du Primerose\, Belgium
CATEGORIES:Sortie Cyclo,Sortie Rando,Sortie Running
END:VEVENT
END:VCALENDAR