BEGIN:VCALENDAR
VERSION:2.0
PRODID:-//Sport to Change Diabetes - ECPv6.15.15//NONSGML v1.0//EN
CALSCALE:GREGORIAN
METHOD:PUBLISH
X-ORIGINAL-URL:https://sporttochangediabetes.be
X-WR-CALDESC:Évènements pour Sport to Change Diabetes
REFRESH-INTERVAL;VALUE=DURATION:PT1H
X-Robots-Tag:noindex
X-PUBLISHED-TTL:PT1H
BEGIN:VTIMEZONE
TZID:Europe/Paris
BEGIN:DAYLIGHT
TZOFFSETFROM:+0100
TZOFFSETTO:+0200
TZNAME:CEST
DTSTART:20240331T010000
END:DAYLIGHT
BEGIN:STANDARD
TZOFFSETFROM:+0200
TZOFFSETTO:+0100
TZNAME:CET
DTSTART:20241027T010000
END:STANDARD
BEGIN:DAYLIGHT
TZOFFSETFROM:+0100
TZOFFSETTO:+0200
TZNAME:CEST
DTSTART:20250330T010000
END:DAYLIGHT
BEGIN:STANDARD
TZOFFSETFROM:+0200
TZOFFSETTO:+0100
TZNAME:CET
DTSTART:20251026T010000
END:STANDARD
BEGIN:DAYLIGHT
TZOFFSETFROM:+0100
TZOFFSETTO:+0200
TZNAME:CEST
DTSTART:20260329T010000
END:DAYLIGHT
BEGIN:STANDARD
TZOFFSETFROM:+0200
TZOFFSETTO:+0100
TZNAME:CET
DTSTART:20261025T010000
END:STANDARD
END:VTIMEZONE
BEGIN:VEVENT
DTSTART;TZID=Europe/Paris:20250118T110000
DTEND;TZID=Europe/Paris:20250118T170000
DTSTAMP:20260421T140125
CREATED:20241230T122014Z
LAST-MODIFIED:20250103T154955Z
UID:1153-1737198000-1737219600@sporttochangediabetes.be
SUMMARY:Relais Givrés
DESCRIPTION:Course par équipe de 5 coureurs (dont 1 femme et 1 vétéran) \nParcours de 8 et 4 km \nDépart 11h \nInformation: https://www.relaisgivres.be/index.php/fr/ \nInscription: Olivier Liégeois: oli.liegeois@gmail.com \n 
URL:https://sporttochangediabetes.be/event/relais-givres/
LOCATION:Neder-Over-Hembeek\, 1120\, Belgium
CATEGORIES:Sortie Running
END:VEVENT
END:VCALENDAR